BEGIN:VCALENDAR
VERSION:2.0
PRODID:-//Plone.org//NONSGML plone.app.event//EN
X-WR-TIMEZONE:US/Eastern
BEGIN:VEVENT
SUMMARY:Use A Gadget
DTSTART;TZID=US/Eastern:20260513T160000
DTEND;TZID=US/Eastern:20260513T170000
DTSTAMP:20260422T115806Z
UID:8c864604f40e4dec82b165c420e141ff@saas_stack_varnish:6080
RRULE:FREQ=MONTHLY;COUNT=10;BYDAY=+2WE
CONTACT:Justine\, 616-877-4143\, justinew@leightonlibrary.org
CREATED:20251204T235208Z
DESCRIPTION:Drop in and use one of the library's tools
LAST-MODIFIED:20260416T162857Z
LOCATION:Leighton Township Library Makerspace Room
URL:https://www.leightonlibrary.org/news-events/library-events/use-a-gadge
 t
END:VEVENT
BEGIN:VTIMEZONE
TZID:US/Eastern
X-LIC-LOCATION:US/Eastern
BEGIN:DAYLIGHT
DTSTART:20260308T030000
TZNAME:EDT
TZOFFSETFROM:-0500
TZOFFSETTO:-0400
END:DAYLIGHT
END:VTIMEZONE
END:VCALENDAR
