BEGIN:VCALENDAR
VERSION:2.0
PRODID:-//Plone.org//NONSGML plone.app.event//EN
X-WR-TIMEZONE:US/Eastern
BEGIN:VEVENT
SUMMARY:Use A Gadget
DTSTART;TZID=US/Eastern:20261209T160000
DTEND;TZID=US/Eastern:20261209T170000
DTSTAMP:20260422T153014Z
UID:8c864604f40e4dec82b165c420e141ff@saas_stack_varnish:6080
CONTACT:Justine\, 616-877-4143\, justinew@leightonlibrary.org
CREATED:20251204T235208Z
DESCRIPTION:Drop in and use one of the library's tools
LAST-MODIFIED:20260416T162857Z
LOCATION:Leighton Township Library Makerspace Room
URL:https://www.leightonlibrary.org/news-events/library-events/use-a-gadge
 t/2026-12-09
END:VEVENT
BEGIN:VTIMEZONE
TZID:US/Eastern
X-LIC-LOCATION:US/Eastern
BEGIN:STANDARD
DTSTART:20261101T010000
TZNAME:EST
TZOFFSETFROM:-0400
TZOFFSETTO:-0500
END:STANDARD
END:VTIMEZONE
END:VCALENDAR
