BEGIN:VCALENDAR
VERSION:2.0
PRODID:-//Plone.org//NONSGML plone.app.event//EN
X-WR-TIMEZONE:US/Eastern
BEGIN:VEVENT
SUMMARY:Hole Punch Art
DTSTART;TZID=US/Eastern:20260423T180000
DTEND;TZID=US/Eastern:20260423T190000
DTSTAMP:20260422T211506Z
UID:c045b1196e41414db32daf2e8bde256b@saas_stack_varnish:6080
ATTENDEE;CN="All Teens & Tweens Welcome!";ROLE=REQ-PARTICIPANT:All Teens &
  Tweens Welcome!
CONTACT:Justine\, 616-877-4143\, justinew@leightonlibrary.org
CREATED:20260312T230605Z
DESCRIPTION:Teen/Tween Hole Punch Art
LAST-MODIFIED:20260312T230820Z
LOCATION:Leighton Township Library Makerspace Room
URL:https://www.leightonlibrary.org/news-events/library-events/hole-punch-
 art
END:VEVENT
BEGIN:VTIMEZONE
TZID:US/Eastern
X-LIC-LOCATION:US/Eastern
BEGIN:DAYLIGHT
DTSTART:20260308T030000
TZNAME:EDT
TZOFFSETFROM:-0500
TZOFFSETTO:-0400
END:DAYLIGHT
END:VTIMEZONE
END:VCALENDAR
