BEGIN:VCALENDAR
VERSION:2.0
PRODID:-//Plone.org//NONSGML plone.app.event//EN
X-WR-TIMEZONE:US/Eastern
BEGIN:VEVENT
SUMMARY:Creators Club!
DTSTART;TZID=US/Eastern:20260427T150000
DTEND;TZID=US/Eastern:20260427T160000
DTSTAMP:20260422T193616Z
UID:e4359d18f3cb499f810e1a5013c097f3@saas_stack_varnish:6080
RRULE:FREQ=WEEKLY;COUNT=10;INTERVAL=2
EXDATE;TZID=US/Eastern:20230102T000000,20230116T000000,20230130T000000,202
 30213T000000,20230227T000000,20230403T000000,20250113T000000,20250127T0000
 00,20250407T000000,20250421T000000,20250505T000000,20251006T000000,2025102
 0T000000,20251103T000000,20251117T000000,20251201T000000,20251215T000000,2
 0251222T000000,20260105T000000,20260112T000000,20260119T000000,20260202T00
 0000,20260216T000000,20260302T000000,20260316T000000,20260330T000000
CONTACT:Chris\, 616-877-4143\, chriss@leightonlibrary.org
CREATED:20220817T200342Z
DESCRIPTION:Every 2nd & 4th Monday After School Crafts
LAST-MODIFIED:20251204T153929Z
LOCATION:Leighton Township Library
URL:https://www.leightonlibrary.org/news-events/library-events/creator-clu
 b
END:VEVENT
BEGIN:VTIMEZONE
TZID:US/Eastern
X-LIC-LOCATION:US/Eastern
BEGIN:DAYLIGHT
DTSTART:20260308T030000
TZNAME:EDT
TZOFFSETFROM:-0500
TZOFFSETTO:-0400
END:DAYLIGHT
END:VTIMEZONE
END:VCALENDAR
