BEGIN:VCALENDAR
VERSION:2.0
PRODID:-//Plone.org//NONSGML plone.app.event//EN
X-WR-TIMEZONE:US/Eastern
BEGIN:VEVENT
SUMMARY:LEGO Club
DTSTART;TZID=US/Eastern:20260420T150000
DTEND;TZID=US/Eastern:20260420T160000
DTSTAMP:20260420T125633Z
UID:83bc5f2997ee4d1baef01aa8b8be5d7c@saas_stack_varnish:6080
RRULE:FREQ=WEEKLY;COUNT=6;INTERVAL=2
EXDATE;TZID=US/Eastern:20230508T000000,20230522T000000,20231225T000000,202
 40304T000000,20240513T000000,20250414T000000,20251013T000000,20251027T0000
 00,20251110T000000,20251124T000000,20251229T000000,20260112T000000,2026012
 6T000000,20260209T000000,20260223T000000
CONTACT:Justine\, 616-877-4143\, justinew@leightonlibrary.org
CREATED:20230208T214321Z
DESCRIPTION:After School LEGO Club
LAST-MODIFIED:20251204T154320Z
LOCATION:Leighton Township Library
URL:https://www.leightonlibrary.org/news-events/library-events/lego-club
END:VEVENT
BEGIN:VEVENT
SUMMARY:Library Board Meeting
DTSTART;TZID=US/Eastern:20260420T190000
DTEND;TZID=US/Eastern:20260420T200000
DTSTAMP:20260420T125633Z
UID:ba832235ce254c8ab1831ae41baa6667@saas_stack_varnish:6080
RRULE:FREQ=MONTHLY;COUNT=11;BYDAY=+3MO
EXDATE;TZID=US/Eastern:20250721T000000,20260720T000000
CONTACT:Karen\, 616-877-4143\, karenm@leightonlibrary.org
CREATED:20190819T152608Z
DESCRIPTION:Monthly Board Meeting
LAST-MODIFIED:20260120T163355Z
LOCATION:Leighton Township Library
URL:https://www.leightonlibrary.org/news-events/library-events/library-boa
 rd-meeting
END:VEVENT
BEGIN:VTIMEZONE
TZID:US/Eastern
X-LIC-LOCATION:US/Eastern
BEGIN:DAYLIGHT
DTSTART:20260308T030000
TZNAME:EDT
TZOFFSETFROM:-0500
TZOFFSETTO:-0400
END:DAYLIGHT
END:VTIMEZONE
END:VCALENDAR
